BEGIN:VCALENDAR
VERSION:2.0
PRODID:-//Plone.org//NONSGML plone.app.event//EN
X-WR-TIMEZONE:Europe/Madrid
BEGIN:VEVENT
SUMMARY:Ciclo Interrelaciones y Desvíos: Federico Guzmán y Elisabett
 a De Luca
DTSTART;TZID=Europe/Madrid;VALUE=DATE-TIME:20250328T140000
DTEND;TZID=Europe/Madrid;VALUE=DATE-TIME:20250601T140000
DTSTAMP;VALUE=DATE-TIME:20260422T025221Z
UID:019937ed53bc4cf99d9bebe829d8e8ba@icas.sevilla.org
CATEGORIES:exposición
CREATED;VALUE=DATE-TIME:20250331T122048Z
LAST-MODIFIED;VALUE=DATE-TIME:20250331T122058Z
URL:https://icas.sevilla.org/agenda/ciclo-interrelaciones-y-desvios-federi
 co-guzman-y-elisabetta-de-luca
END:VEVENT
BEGIN:VTIMEZONE
TZID:Europe/Madrid
X-LIC-LOCATION:Europe/Madrid
BEGIN:STANDARD
DTSTART;VALUE=DATE-TIME:20241027T020000
TZNAME:CET
TZOFFSETFROM:+0200
TZOFFSETTO:+0100
END:STANDARD
BEGIN:DAYLIGHT
DTSTART;VALUE=DATE-TIME:20250330T030000
TZNAME:CEST
TZOFFSETFROM:+0100
TZOFFSETTO:+0200
END:DAYLIGHT
END:VTIMEZONE
END:VCALENDAR
