BEGIN:VCALENDAR
VERSION:2.0
PRODID:-//Plone.org//NONSGML plone.app.event//EN
X-WR-TIMEZONE:Europe/Madrid
BEGIN:VEVENT
SUMMARY:Cine de Verano en los Distritos
DTSTART;TZID=Europe/Madrid;VALUE=DATE-TIME:20220708T220000
DTEND;TZID=Europe/Madrid;VALUE=DATE-TIME:20220917T003000
DTSTAMP;VALUE=DATE-TIME:20260423T140744Z
UID:a664ced9a0664e5a89029339dcab4cd4@icas.sevilla.org
CATEGORIES:cine,verano,distritos
CREATED;VALUE=DATE-TIME:20220711T081628Z
LAST-MODIFIED;VALUE=DATE-TIME:20231006T080036Z
URL:https://icas.sevilla.org/agenda/cine-de-verano-en-los-distritos
END:VEVENT
BEGIN:VTIMEZONE
TZID:Europe/Madrid
X-LIC-LOCATION:Europe/Madrid
BEGIN:DAYLIGHT
DTSTART;VALUE=DATE-TIME:20220327T030000
TZNAME:CEST
TZOFFSETFROM:+0100
TZOFFSETTO:+0200
END:DAYLIGHT
END:VTIMEZONE
END:VCALENDAR
