BEGIN:VCALENDAR
VERSION:2.0
PRODID:-//Plone.org//NONSGML plone.app.event//EN
X-WR-TIMEZONE:Europe/Madrid
BEGIN:VEVENT
SUMMARY:Clásicos eternos: ciclo de conferencias sobre libros extraordinar
 ios
DTSTART;VALUE=DATE:20210922
DTEND;VALUE=DATE:20210923
DTSTAMP;VALUE=DATE-TIME:20260422T044100Z
UID:be2e78ea5bf04ce4a944d1696f3bae42@icas.sevilla.org
CATEGORIES:Bibliotecas,Literatura
CREATED;VALUE=DATE-TIME:20210825T070332Z
LAST-MODIFIED;VALUE=DATE-TIME:20231006T075005Z
LOCATION:Biblioteca Las Columnas
URL:https://icas.sevilla.org/agenda/clasicos-eternos-ciclo-de-conferencias
 -sobre-libros-extraordinarios-2
END:VEVENT
END:VCALENDAR
