BEGIN:VCALENDAR
VERSION:2.0
PRODID:-//Plone.org//NONSGML plone.app.event//EN
X-WR-TIMEZONE:Europe/Madrid
BEGIN:VEVENT
SUMMARY:Coge una silletita
DTSTART;VALUE=DATE:20211029
DTEND;VALUE=DATE:20211030
DTSTAMP;VALUE=DATE-TIME:20260419T215027Z
UID:c268f984b6bd4c74a47598f65202ed3c@icas.sevilla.org
CREATED;VALUE=DATE-TIME:20211027T145711Z
DESCRIPTION:10 personas compartirán sus vivencias sobre la Fábrica de Vi
 drio y alrededores en conversación íntima con quien quiera escucharlas
LAST-MODIFIED;VALUE=DATE-TIME:20231006T075516Z
LOCATION:Fábrica de Vidrio\, Avenida Miraflores
URL:https://icas.sevilla.org/agenda/coge-una-silletita
END:VEVENT
END:VCALENDAR
