BEGIN:VCALENDAR
VERSION:2.0
PRODID:-//Plone.org//NONSGML plone.app.event//EN
X-WR-TIMEZONE:Europe/Madrid
BEGIN:VEVENT
SUMMARY:Colcha de retazos
DTSTART;VALUE=DATE:20210528
DTEND;VALUE=DATE:20210529
DTSTAMP;VALUE=DATE-TIME:20260421T211702Z
UID:158cf2f2dadb4f59a1badb31c9ff76c0@icas.sevilla.org
CATEGORIES:Bibliotecas,infantil,literatura
CREATED;VALUE=DATE-TIME:20210416T082137Z
LAST-MODIFIED;VALUE=DATE-TIME:20231006T073328Z
LOCATION:Biblioteca Alberto Lista
URL:https://icas.sevilla.org/agenda/colcha-de-retazos
END:VEVENT
END:VCALENDAR
