BEGIN:VCALENDAR
VERSION:2.0
PRODID:-//Plone.org//NONSGML plone.app.event//EN
X-WR-TIMEZONE:Europe/Madrid
BEGIN:VEVENT
SUMMARY:Compañía Flamenca La Lupi - Lenguaje Oculto
DTSTART;TZID=Europe/Madrid;VALUE=DATE-TIME:20200912T210000
DTEND;TZID=Europe/Madrid;VALUE=DATE-TIME:20200912T220000
DTSTAMP;VALUE=DATE-TIME:20260421T122308Z
UID:ec9c1dc84c2d4ef3bba1eb443316123c@icas.sevilla.org
CATEGORIES:Música,Flamenco,Danza
CREATED;VALUE=DATE-TIME:20200806T094242Z
LAST-MODIFIED;VALUE=DATE-TIME:20231006T072358Z
LOCATION:Teatro Central
URL:https://icas.sevilla.org/agenda/compania-flamenca-la-lupi-lenguaje-ocu
 lto
END:VEVENT
BEGIN:VTIMEZONE
TZID:Europe/Madrid
X-LIC-LOCATION:Europe/Madrid
BEGIN:DAYLIGHT
DTSTART;VALUE=DATE-TIME:20200329T030000
TZNAME:CEST
TZOFFSETFROM:+0100
TZOFFSETTO:+0200
END:DAYLIGHT
END:VTIMEZONE
END:VCALENDAR
