BEGIN:VCALENDAR
VERSION:2.0
PRODID:-//Plone.org//NONSGML plone.app.event//EN
X-WR-TIMEZONE:Europe/Madrid
BEGIN:VEVENT
SUMMARY:Conferencia: ‘El monumento a Elio Antonio de Nebrija’\, por Te
 resa Lafita
DTSTART;TZID=Europe/Madrid;VALUE=DATE-TIME:20220913T190000
DTEND;TZID=Europe/Madrid;VALUE=DATE-TIME:20220913T200000
DTSTAMP;VALUE=DATE-TIME:20260423T042158Z
UID:17f3a6d1ca424500bd86b86b28f67a14@icas.sevilla.org
CATEGORIES:Conferencia
CREATED;VALUE=DATE-TIME:20220912T084712Z
LAST-MODIFIED;VALUE=DATE-TIME:20231006T080123Z
LOCATION:Sala Antiquarium
URL:https://icas.sevilla.org/agenda/conferencia-2018el-monumento-a-elio-an
 tonio-de-nebrija2019-por-teresa-lafita
END:VEVENT
BEGIN:VTIMEZONE
TZID:Europe/Madrid
X-LIC-LOCATION:Europe/Madrid
BEGIN:DAYLIGHT
DTSTART;VALUE=DATE-TIME:20220327T030000
TZNAME:CEST
TZOFFSETFROM:+0100
TZOFFSETTO:+0200
END:DAYLIGHT
END:VTIMEZONE
END:VCALENDAR
