BEGIN:VCALENDAR
VERSION:2.0
PRODID:-//Plone.org//NONSGML plone.app.event//EN
X-WR-TIMEZONE:Europe/Madrid
BEGIN:VEVENT
SUMMARY:Conferencia: ‘Passolini. Cine y sociedad en el siglo XX’\, por
  Alberto Códer
DTSTART;TZID=Europe/Madrid;VALUE=DATE-TIME:20220921T190000
DTEND;TZID=Europe/Madrid;VALUE=DATE-TIME:20220921T200000
DTSTAMP;VALUE=DATE-TIME:20260424T220059Z
UID:56a1323f617241b2827cf1686aac7377@icas.sevilla.org
CATEGORIES:Conferencia
CREATED;VALUE=DATE-TIME:20220912T085552Z
LAST-MODIFIED;VALUE=DATE-TIME:20231006T080124Z
LOCATION:Sala Antiquarium
URL:https://icas.sevilla.org/agenda/conferencia-2018passolini-cine-y-socie
 dad-en-el-siglo-xx2019-por-alberto-coder
END:VEVENT
BEGIN:VTIMEZONE
TZID:Europe/Madrid
X-LIC-LOCATION:Europe/Madrid
BEGIN:DAYLIGHT
DTSTART;VALUE=DATE-TIME:20220327T030000
TZNAME:CEST
TZOFFSETFROM:+0100
TZOFFSETTO:+0200
END:DAYLIGHT
END:VTIMEZONE
END:VCALENDAR
