BEGIN:VCALENDAR
VERSION:2.0
PRODID:-//Plone.org//NONSGML plone.app.event//EN
X-WR-TIMEZONE:Europe/Madrid
BEGIN:VEVENT
SUMMARY:Conferencia: ‘Sociedad y cultura en Al-Ándalus’\, por Juan An
 tonio Ruiz Domínguez
DTSTART;TZID=Europe/Madrid;VALUE=DATE-TIME:20220927T190000
DTEND;TZID=Europe/Madrid;VALUE=DATE-TIME:20220927T200000
DTSTAMP;VALUE=DATE-TIME:20260420T130125Z
UID:957883b753e6433faef915703c2f0007@icas.sevilla.org
CATEGORIES:Conferencia
CREATED;VALUE=DATE-TIME:20220912T091155Z
LAST-MODIFIED;VALUE=DATE-TIME:20231006T080136Z
LOCATION:Sala Antiquarium
URL:https://icas.sevilla.org/agenda/conferencia-2018sociedad-y-cultura-en-
 al-andalus2019-por-juan-antonio-ruiz-dominguez
END:VEVENT
BEGIN:VTIMEZONE
TZID:Europe/Madrid
X-LIC-LOCATION:Europe/Madrid
BEGIN:DAYLIGHT
DTSTART;VALUE=DATE-TIME:20220327T030000
TZNAME:CEST
TZOFFSETFROM:+0100
TZOFFSETTO:+0200
END:DAYLIGHT
END:VTIMEZONE
END:VCALENDAR
