BEGIN:VCALENDAR
VERSION:2.0
PRODID:-//Plone.org//NONSGML plone.app.event//EN
X-WR-TIMEZONE:Europe/Madrid
BEGIN:VEVENT
SUMMARY:Conferencia conmemorativa del centenario de la muerte de Emilia Pa
 rdo Bazán
DTSTART;TZID=Europe/Madrid;VALUE=DATE-TIME:20210513T120000
DTEND;TZID=Europe/Madrid;VALUE=DATE-TIME:20210513T130000
DTSTAMP;VALUE=DATE-TIME:20260423T113447Z
UID:10892cc82e144d5abc99d101017579ff@icas.sevilla.org
CATEGORIES:Bibliotecas,Literatura
CREATED;VALUE=DATE-TIME:20210419T143903Z
LAST-MODIFIED;VALUE=DATE-TIME:20231006T073438Z
LOCATION:Biblioteca Parque Alcosa
URL:https://icas.sevilla.org/agenda/conferencia-conmemorativa-del-centenar
 io-de-la-muerte-de-emilia-pardo-bazan
END:VEVENT
BEGIN:VTIMEZONE
TZID:Europe/Madrid
X-LIC-LOCATION:Europe/Madrid
BEGIN:DAYLIGHT
DTSTART;VALUE=DATE-TIME:20210328T030000
TZNAME:CEST
TZOFFSETFROM:+0100
TZOFFSETTO:+0200
END:DAYLIGHT
END:VTIMEZONE
END:VCALENDAR
