BEGIN:VCALENDAR
VERSION:2.0
PRODID:-//Plone.org//NONSGML plone.app.event//EN
X-WR-TIMEZONE:Europe/Madrid
BEGIN:VEVENT
SUMMARY:Conferencia conmemorativa del centenario del nacimiento de Carmen 
 Laforet
DTSTART;TZID=Europe/Madrid;VALUE=DATE-TIME:20211111T180000
DTEND;TZID=Europe/Madrid;VALUE=DATE-TIME:20211111T190000
DTSTAMP;VALUE=DATE-TIME:20260419T215655Z
UID:e8aa9431f3cd4e309b854c56fa973085@icas.sevilla.org
CATEGORIES:Bibliotecas,Literatura
CREATED;VALUE=DATE-TIME:20211025T195333Z
LAST-MODIFIED;VALUE=DATE-TIME:20231006T075454Z
LOCATION:Biblioteca Parque Alcosa
URL:https://icas.sevilla.org/agenda/conferencia-conmemorativa-del-centenar
 io-del-nacimiento-de-carmen-laforet
END:VEVENT
BEGIN:VTIMEZONE
TZID:Europe/Madrid
X-LIC-LOCATION:Europe/Madrid
BEGIN:STANDARD
DTSTART;VALUE=DATE-TIME:20211031T020000
TZNAME:CET
TZOFFSETFROM:+0200
TZOFFSETTO:+0100
END:STANDARD
END:VTIMEZONE
END:VCALENDAR
