BEGIN:VCALENDAR
VERSION:2.0
PRODID:-//Plone.org//NONSGML plone.app.event//EN
X-WR-TIMEZONE:Europe/Madrid
BEGIN:VEVENT
SUMMARY:Conferencia dinamizada para público infantil sobre la socializaci
 ón
DTSTART;TZID=Europe/Madrid;VALUE=DATE-TIME:20211125T100000
DTEND;TZID=Europe/Madrid;VALUE=DATE-TIME:20211125T110000
DTSTAMP;VALUE=DATE-TIME:20260422T182442Z
UID:684d75e9d29142649e36d39819faffa1@icas.sevilla.org
CATEGORIES:Bibliotecas,Infantil
CREATED;VALUE=DATE-TIME:20211019T155111Z
LAST-MODIFIED;VALUE=DATE-TIME:20231006T075345Z
LOCATION:Biblioteca El Esqueleto
URL:https://icas.sevilla.org/agenda/conferencia-dinamizada-para-publico-in
 fantil-sobre-la-socializacion-2
END:VEVENT
BEGIN:VTIMEZONE
TZID:Europe/Madrid
X-LIC-LOCATION:Europe/Madrid
BEGIN:STANDARD
DTSTART;VALUE=DATE-TIME:20211031T020000
TZNAME:CET
TZOFFSETFROM:+0200
TZOFFSETTO:+0100
END:STANDARD
END:VTIMEZONE
END:VCALENDAR
