BEGIN:VCALENDAR
VERSION:2.0
PRODID:-//Plone.org//NONSGML plone.app.event//EN
X-WR-TIMEZONE:Europe/Madrid
BEGIN:VEVENT
SUMMARY:Conferencia dinamizada para público infantil sobre la socializaci
 ón
DTSTART;TZID=Europe/Madrid;VALUE=DATE-TIME:20210427T100000
DTEND;TZID=Europe/Madrid;VALUE=DATE-TIME:20210427T110000
DTSTAMP;VALUE=DATE-TIME:20260422T152930Z
UID:f452d20d20964aa2ad24abd16f20e274@icas.sevilla.org
CATEGORIES:Bibliotecas,Literatura,Infantil
CREATED;VALUE=DATE-TIME:20210419T100312Z
LAST-MODIFIED;VALUE=DATE-TIME:20231006T073354Z
LOCATION:Biblioteca El Esqueleto
URL:https://icas.sevilla.org/agenda/conferencia-dinamizada-para-publico-in
 fantil-sobre-la-socializacion
END:VEVENT
BEGIN:VTIMEZONE
TZID:Europe/Madrid
X-LIC-LOCATION:Europe/Madrid
BEGIN:DAYLIGHT
DTSTART;VALUE=DATE-TIME:20210328T030000
TZNAME:CEST
TZOFFSETFROM:+0100
TZOFFSETTO:+0200
END:DAYLIGHT
END:VTIMEZONE
END:VCALENDAR
