BEGIN:VCALENDAR
VERSION:2.0
PRODID:-//Plone.org//NONSGML plone.app.event//EN
X-WR-TIMEZONE:Europe/Madrid
BEGIN:VEVENT
SUMMARY:Conferencia: ¿Y tú\, sabes escoger un cómic? Con María Medem
DTSTART;TZID=Europe/Madrid;VALUE=DATE-TIME:20211117T180000
DTEND;TZID=Europe/Madrid;VALUE=DATE-TIME:20211117T190000
DTSTAMP;VALUE=DATE-TIME:20260422T043534Z
UID:193cf38bf08644cd98101144b9988ffa@icas.sevilla.org
CATEGORIES:Bibliotecas,cómic
CREATED;VALUE=DATE-TIME:20211024T181727Z
LAST-MODIFIED;VALUE=DATE-TIME:20231006T075419Z
LOCATION:Biblioteca Julia Uceda
URL:https://icas.sevilla.org/agenda/conferencia-y-tu-sabes-escoger-un-comi
 c-con-maria-medem
END:VEVENT
BEGIN:VTIMEZONE
TZID:Europe/Madrid
X-LIC-LOCATION:Europe/Madrid
BEGIN:STANDARD
DTSTART;VALUE=DATE-TIME:20211031T020000
TZNAME:CET
TZOFFSETFROM:+0200
TZOFFSETTO:+0100
END:STANDARD
END:VTIMEZONE
END:VCALENDAR
