BEGIN:VCALENDAR
VERSION:2.0
PRODID:-//Plone.org//NONSGML plone.app.event//EN
X-WR-TIMEZONE:Europe/Madrid
BEGIN:VEVENT
SUMMARY:'Constante atardecer'\, de Juan Luis Corrientes
DTSTART;TZID=Europe/Madrid;VALUE=DATE-TIME:20210811T220000
DTEND;TZID=Europe/Madrid;VALUE=DATE-TIME:20210811T230000
DTSTAMP;VALUE=DATE-TIME:20260421T193508Z
UID:ff3f038718464578b0401390da34a845@icas.sevilla.org
CATEGORIES:Artes escénicas
CREATED;VALUE=DATE-TIME:20210722T075811Z
LAST-MODIFIED;VALUE=DATE-TIME:20231006T074900Z
LOCATION:Factoría Cultural
URL:https://icas.sevilla.org/agenda/constante-atardecer-de-juan-luis-corri
 entes
END:VEVENT
BEGIN:VTIMEZONE
TZID:Europe/Madrid
X-LIC-LOCATION:Europe/Madrid
BEGIN:DAYLIGHT
DTSTART;VALUE=DATE-TIME:20210328T030000
TZNAME:CEST
TZOFFSETFROM:+0100
TZOFFSETTO:+0200
END:DAYLIGHT
END:VTIMEZONE
END:VCALENDAR
