BEGIN:VCALENDAR
VERSION:2.0
PRODID:-//Plone.org//NONSGML plone.app.event//EN
X-WR-TIMEZONE:Europe/Madrid
BEGIN:VEVENT
SUMMARY:Convocatoria de colaboradores de 'INTRA. Preguntas a la Tierra y s
 u género'
DTSTART;TZID=Europe/Madrid;VALUE=DATE-TIME:20230412T000000
DTEND;TZID=Europe/Madrid;VALUE=DATE-TIME:20230512T235500
DTSTAMP;VALUE=DATE-TIME:20260420T225828Z
UID:a4e00a32c9f44ffab19e63dd87455d23@icas.sevilla.org
CREATED;VALUE=DATE-TIME:20230413T105711Z
LAST-MODIFIED;VALUE=DATE-TIME:20231006T080457Z
URL:https://icas.sevilla.org/agenda/convocatoria-de-colaboradores-de-intra
 -preguntas-a-la-tierra-y-su-genero
END:VEVENT
BEGIN:VTIMEZONE
TZID:Europe/Madrid
X-LIC-LOCATION:Europe/Madrid
BEGIN:DAYLIGHT
DTSTART;VALUE=DATE-TIME:20230326T030000
TZNAME:CEST
TZOFFSETFROM:+0100
TZOFFSETTO:+0200
END:DAYLIGHT
END:VTIMEZONE
END:VCALENDAR
