BEGIN:VCALENDAR
VERSION:2.0
PRODID:-//Plone.org//NONSGML plone.app.event//EN
X-WR-TIMEZONE:Europe/Madrid
BEGIN:VEVENT
SUMMARY:Álbum de fotos
DTSTART;TZID=Europe/Madrid;VALUE=DATE-TIME:20210721T103000
DTEND;TZID=Europe/Madrid;VALUE=DATE-TIME:20210721T113000
DTSTAMP;VALUE=DATE-TIME:20260425T001815Z
UID:8c9fd9416ef84ed3b062c37b7c2cc785@icas.sevilla.org
CATEGORIES:Bibliotecas,Infantil
CREATED;VALUE=DATE-TIME:20210608T140222Z
LAST-MODIFIED;VALUE=DATE-TIME:20231006T073648Z
LOCATION:Biblioteca Entreparques
URL:https://icas.sevilla.org/agenda/copy2_of_album-de-fotos
END:VEVENT
BEGIN:VTIMEZONE
TZID:Europe/Madrid
X-LIC-LOCATION:Europe/Madrid
BEGIN:DAYLIGHT
DTSTART;VALUE=DATE-TIME:20210328T030000
TZNAME:CEST
TZOFFSETFROM:+0100
TZOFFSETTO:+0200
END:DAYLIGHT
END:VTIMEZONE
END:VCALENDAR
