BEGIN:VCALENDAR
VERSION:2.0
PRODID:-//Plone.org//NONSGML plone.app.event//EN
X-WR-TIMEZONE:Europe/Madrid
BEGIN:VEVENT
SUMMARY:'El Mueble'\, de Juan Carlos Rubio y Yolanda García Serrano.
DTSTART;TZID=Europe/Madrid;VALUE=DATE-TIME:20201018T193000
DTEND;TZID=Europe/Madrid;VALUE=DATE-TIME:20201018T213000
DTSTAMP;VALUE=DATE-TIME:20260425T191751Z
UID:b7edbc458a374e4fbfb91e4db6e813e5@icas.sevilla.org
CATEGORIES:Artes escénicas
CREATED;VALUE=DATE-TIME:20200929T061523Z
LAST-MODIFIED;VALUE=DATE-TIME:20231006T072617Z
URL:https://icas.sevilla.org/agenda/copy2_of_el-mueble-lope
END:VEVENT
BEGIN:VTIMEZONE
TZID:Europe/Madrid
X-LIC-LOCATION:Europe/Madrid
BEGIN:DAYLIGHT
DTSTART;VALUE=DATE-TIME:20200329T030000
TZNAME:CEST
TZOFFSETFROM:+0100
TZOFFSETTO:+0200
END:DAYLIGHT
END:VTIMEZONE
END:VCALENDAR
