BEGIN:VCALENDAR
VERSION:2.0
PRODID:-//Plone.org//NONSGML plone.app.event//EN
X-WR-TIMEZONE:Europe/Madrid
BEGIN:VEVENT
SUMMARY:Los Álvarez Quintero en Casa Fabiola\, de las Cías. Almatwins 
 Productions y Dos Lunas Teatro
DTSTART;TZID=Europe/Madrid;VALUE=DATE-TIME:20210522T203000
DTEND;TZID=Europe/Madrid;VALUE=DATE-TIME:20210522T213000
DTSTAMP;VALUE=DATE-TIME:20260423T215858Z
UID:209149f14a8c4274947d33abb099257c@icas.sevilla.org
CATEGORIES:Artes escénicas
CREATED;VALUE=DATE-TIME:20210503T140814Z
LAST-MODIFIED;VALUE=DATE-TIME:20231006T073628Z
URL:https://icas.sevilla.org/agenda/copy2_of_los-alvarez-quintero-en-casa-
 fabiola-de-las-cias-almatwing-production-y-la-asociacion-entretierras-dos-
 lunas-teatro
END:VEVENT
BEGIN:VTIMEZONE
TZID:Europe/Madrid
X-LIC-LOCATION:Europe/Madrid
BEGIN:DAYLIGHT
DTSTART;VALUE=DATE-TIME:20210328T030000
TZNAME:CEST
TZOFFSETFROM:+0100
TZOFFSETTO:+0200
END:DAYLIGHT
END:VTIMEZONE
END:VCALENDAR
