BEGIN:VCALENDAR
VERSION:2.0
PRODID:-//Plone.org//NONSGML plone.app.event//EN
X-WR-TIMEZONE:Europe/Madrid
BEGIN:VEVENT
SUMMARY:Romeo y Julieta
DTSTART;TZID=Europe/Madrid;VALUE=DATE-TIME:20201025T193000
DTEND;TZID=Europe/Madrid;VALUE=DATE-TIME:20201025T223000
DTSTAMP;VALUE=DATE-TIME:20260420T224524Z
UID:4232d717d22c47aabc17cee83d463c10@icas.sevilla.org
CATEGORIES:Artes escénicas
CREATED;VALUE=DATE-TIME:20200929T062453Z
LAST-MODIFIED;VALUE=DATE-TIME:20231006T072624Z
URL:https://icas.sevilla.org/agenda/copy2_of_romeo-zurro-lope
END:VEVENT
BEGIN:VTIMEZONE
TZID:Europe/Madrid
X-LIC-LOCATION:Europe/Madrid
BEGIN:STANDARD
DTSTART;VALUE=DATE-TIME:20201025T020000
TZNAME:CET
TZOFFSETFROM:+0200
TZOFFSETTO:+0100
END:STANDARD
END:VTIMEZONE
END:VCALENDAR
