BEGIN:VCALENDAR
VERSION:2.0
PRODID:-//Plone.org//NONSGML plone.app.event//EN
X-WR-TIMEZONE:Europe/Madrid
BEGIN:VEVENT
SUMMARY:Teatroapelo / La Ejecutora. 'Cartas de un verano sin cobertura' (t
 eatro). Distrito Este-Alcosa-Torreblanca
DTSTART;TZID=Europe/Madrid;VALUE=DATE-TIME:20220910T213000
DTEND;TZID=Europe/Madrid;VALUE=DATE-TIME:20220910T223000
DTSTAMP;VALUE=DATE-TIME:20260423T053305Z
UID:edd411322a5446b19af4360960054d79@icas.sevilla.org
CATEGORIES:Teatro
CREATED;VALUE=DATE-TIME:20220810T061519Z
DESCRIPTION:Veraneo en la City
LAST-MODIFIED;VALUE=DATE-TIME:20231006T080116Z
LOCATION:Bulevar de Torreblanca
URL:https://icas.sevilla.org/agenda/copy2_of_teatroapelo-la-ejecutora-cart
 as-de-un-verano-sin-cobertura-teatro-distrito-nervion
END:VEVENT
BEGIN:VTIMEZONE
TZID:Europe/Madrid
X-LIC-LOCATION:Europe/Madrid
BEGIN:DAYLIGHT
DTSTART;VALUE=DATE-TIME:20220327T030000
TZNAME:CEST
TZOFFSETFROM:+0100
TZOFFSETTO:+0200
END:DAYLIGHT
END:VTIMEZONE
END:VCALENDAR
