BEGIN:VCALENDAR
VERSION:2.0
PRODID:-//Plone.org//NONSGML plone.app.event//EN
X-WR-TIMEZONE:Europe/Madrid
BEGIN:VEVENT
SUMMARY:‘Sainetes en el Patio de Casa Fabiola’
DTSTART;TZID=Europe/Madrid;VALUE=DATE-TIME:20210722T211500
DTEND;TZID=Europe/Madrid;VALUE=DATE-TIME:20210722T221500
DTSTAMP;VALUE=DATE-TIME:20260422T043742Z
UID:0bd5332ae5fd4f2a96e118d055a95fcd@icas.sevilla.org
CREATED;VALUE=DATE-TIME:20210614T074756Z
LAST-MODIFIED;VALUE=DATE-TIME:20231006T074119Z
LOCATION:Casa Fabiola-Donación de Arte Mariano Bellver
URL:https://icas.sevilla.org/agenda/copy3_of_2018sainetes-en-el-patio-de-c
 asa-fabiola2019-1
END:VEVENT
BEGIN:VTIMEZONE
TZID:Europe/Madrid
X-LIC-LOCATION:Europe/Madrid
BEGIN:DAYLIGHT
DTSTART;VALUE=DATE-TIME:20210328T030000
TZNAME:CEST
TZOFFSETFROM:+0100
TZOFFSETTO:+0200
END:DAYLIGHT
END:VTIMEZONE
END:VCALENDAR
