BEGIN:VCALENDAR
VERSION:2.0
PRODID:-//Plone.org//NONSGML plone.app.event//EN
X-WR-TIMEZONE:Europe/Madrid
BEGIN:VEVENT
SUMMARY:Califato ¾ \, 'La Contraçeña'
DTSTART;TZID=Europe/Madrid;VALUE=DATE-TIME:20211008T200000
DTEND;TZID=Europe/Madrid;VALUE=DATE-TIME:20211008T214000
DTSTAMP;VALUE=DATE-TIME:20260426T004857Z
UID:5c881c536c674008b9c4e4098e865baa@icas.sevilla.org
CATEGORIES:Música,Flamenco
CREATED;VALUE=DATE-TIME:20210621T123139Z
DESCRIPTION:Música
LAST-MODIFIED;VALUE=DATE-TIME:20231006T075057Z
URL:https://icas.sevilla.org/agenda/copy_of_califato-3-4-la-contracena
END:VEVENT
BEGIN:VTIMEZONE
TZID:Europe/Madrid
X-LIC-LOCATION:Europe/Madrid
BEGIN:DAYLIGHT
DTSTART;VALUE=DATE-TIME:20210328T030000
TZNAME:CEST
TZOFFSETFROM:+0100
TZOFFSETTO:+0200
END:DAYLIGHT
END:VTIMEZONE
END:VCALENDAR
