BEGIN:VCALENDAR
VERSION:2.0
PRODID:-//Plone.org//NONSGML plone.app.event//EN
X-WR-TIMEZONE:Europe/Madrid
BEGIN:VEVENT
SUMMARY:'Noches del Lope I'\, Real Orquesta Sinfónica de Sevilla
DTSTART;TZID=Europe/Madrid;VALUE=DATE-TIME:20211027T200000
DTEND;TZID=Europe/Madrid;VALUE=DATE-TIME:20211027T213000
DTSTAMP;VALUE=DATE-TIME:20260423T172127Z
UID:6411e070f8e14303bec22f847c83aef3@icas.sevilla.org
CATEGORIES:Música
CREATED;VALUE=DATE-TIME:20210621T142850Z
DESCRIPTION:Música
LAST-MODIFIED;VALUE=DATE-TIME:20231006T074648Z
URL:https://icas.sevilla.org/agenda/copy_of_las-noches-del-lope-real-orque
 sta-sinfonica-de-sevilla
END:VEVENT
BEGIN:VTIMEZONE
TZID:Europe/Madrid
X-LIC-LOCATION:Europe/Madrid
BEGIN:DAYLIGHT
DTSTART;VALUE=DATE-TIME:20210328T030000
TZNAME:CEST
TZOFFSETFROM:+0100
TZOFFSETTO:+0200
END:DAYLIGHT
END:VTIMEZONE
END:VCALENDAR
