BEGIN:VCALENDAR
VERSION:2.0
PRODID:-//Plone.org//NONSGML plone.app.event//EN
X-WR-TIMEZONE:Europe/Madrid
BEGIN:VEVENT
SUMMARY:'Luces de Bohemia'\, de Ramón Valle Inclán
DTSTART;TZID=Europe/Madrid;VALUE=DATE-TIME:20201021T203000
DTEND;TZID=Europe/Madrid;VALUE=DATE-TIME:20201021T223000
DTSTAMP;VALUE=DATE-TIME:20260425T203832Z
UID:27dbb84fdd484a24b5cb0aa67ae141fb@icas.sevilla.org
CATEGORIES:Artes escénicas
CREATED;VALUE=DATE-TIME:20200929T062120Z
LAST-MODIFIED;VALUE=DATE-TIME:20231006T072620Z
URL:https://icas.sevilla.org/agenda/copy_of_luces-oct-20
END:VEVENT
BEGIN:VTIMEZONE
TZID:Europe/Madrid
X-LIC-LOCATION:Europe/Madrid
BEGIN:DAYLIGHT
DTSTART;VALUE=DATE-TIME:20200329T030000
TZNAME:CEST
TZOFFSETFROM:+0100
TZOFFSETTO:+0200
END:DAYLIGHT
END:VTIMEZONE
END:VCALENDAR
