BEGIN:VCALENDAR
VERSION:2.0
PRODID:-//Plone.org//NONSGML plone.app.event//EN
X-WR-TIMEZONE:Europe/Madrid
BEGIN:VEVENT
SUMMARY:'Soy una nuez'. Cía. Zum Zum Teatre
DTSTART;TZID=Europe/Madrid;VALUE=DATE-TIME:20220114T120000
DTEND;TZID=Europe/Madrid;VALUE=DATE-TIME:20220114T130000
DTSTAMP;VALUE=DATE-TIME:20260419T155331Z
UID:4b708d9f92654538baecd3bf88c3da59@icas.sevilla.org
CATEGORIES:Artes escénicas
CREATED;VALUE=DATE-TIME:20220110T114739Z
LAST-MODIFIED;VALUE=DATE-TIME:20231006T075556Z
URL:https://icas.sevilla.org/agenda/copy_of_soy-una-nuez-cia-zum-zum-teatr
 e
END:VEVENT
BEGIN:VTIMEZONE
TZID:Europe/Madrid
X-LIC-LOCATION:Europe/Madrid
BEGIN:STANDARD
DTSTART;VALUE=DATE-TIME:20211031T020000
TZNAME:CET
TZOFFSETFROM:+0200
TZOFFSETTO:+0100
END:STANDARD
END:VTIMEZONE
END:VCALENDAR
