BEGIN:VCALENDAR
VERSION:2.0
PRODID:-//Plone.org//NONSGML plone.app.event//EN
X-WR-TIMEZONE:Europe/Madrid
BEGIN:VEVENT
SUMMARY:Visita guiada a la exposición 'Simulacro y perplejidad'\, de Jos
 é María Baez
DTSTART;TZID=Europe/Madrid;VALUE=DATE-TIME:20220210T190000
DTEND;TZID=Europe/Madrid;VALUE=DATE-TIME:20220210T200000
DTSTAMP;VALUE=DATE-TIME:20260422T025036Z
UID:4fd91ea9552c45e3ba1075b709445d03@icas.sevilla.org
CATEGORIES:Exposiciones
CREATED;VALUE=DATE-TIME:20220113T122029Z
LAST-MODIFIED;VALUE=DATE-TIME:20231006T075639Z
URL:https://icas.sevilla.org/agenda/copy_of_visita-guiada-a-la-exposicion-
 simulacro-y-perplejidad-de-jose-maria-baez
END:VEVENT
BEGIN:VTIMEZONE
TZID:Europe/Madrid
X-LIC-LOCATION:Europe/Madrid
BEGIN:STANDARD
DTSTART;VALUE=DATE-TIME:20211031T020000
TZNAME:CET
TZOFFSETFROM:+0200
TZOFFSETTO:+0100
END:STANDARD
END:VTIMEZONE
END:VCALENDAR
