BEGIN:VCALENDAR
VERSION:2.0
PRODID:-//Plone.org//NONSGML plone.app.event//EN
X-WR-TIMEZONE:Europe/Madrid
BEGIN:VEVENT
SUMMARY:Mil y una literaturas: 'Luces en la sombra: la creación de los ed
 itores'
DTSTART;TZID=Europe/Madrid;VALUE=DATE-TIME:20201029T193000
DTEND;TZID=Europe/Madrid;VALUE=DATE-TIME:20201029T203000
DTSTAMP;VALUE=DATE-TIME:20260423T185412Z
UID:d8ef761a87e745aa965eee0fe85c40ae@icas.sevilla.org
CATEGORIES:Literatura
CREATED;VALUE=DATE-TIME:20200923T101721Z
LAST-MODIFIED;VALUE=DATE-TIME:20231006T072521Z
LOCATION:Espacio Santa Clara
URL:https://icas.sevilla.org/agenda/creacion-editores
END:VEVENT
BEGIN:VTIMEZONE
TZID:Europe/Madrid
X-LIC-LOCATION:Europe/Madrid
BEGIN:STANDARD
DTSTART;VALUE=DATE-TIME:20201025T020000
TZNAME:CET
TZOFFSETFROM:+0200
TZOFFSETTO:+0100
END:STANDARD
END:VTIMEZONE
END:VCALENDAR
