BEGIN:VCALENDAR
VERSION:2.0
PRODID:-//Plone.org//NONSGML plone.app.event//EN
X-WR-TIMEZONE:Europe/Madrid
BEGIN:VEVENT
SUMMARY:Creación\, reflexión\, difusión… la revista de cultura en el 
 mundo contemporáneo
DTSTART;TZID=Europe/Madrid;VALUE=DATE-TIME:20210609T200000
DTEND;TZID=Europe/Madrid;VALUE=DATE-TIME:20210609T210000
DTSTAMP;VALUE=DATE-TIME:20260423T113350Z
UID:97491f3a933d4545b02333821b430f4a@icas.sevilla.org
CATEGORIES:Literatura
CREATED;VALUE=DATE-TIME:20210428T073340Z
LAST-MODIFIED;VALUE=DATE-TIME:20231006T073600Z
URL:https://icas.sevilla.org/agenda/creacion-reflexion-difusion-la-revista
 -de-cultura-en-el-mundo-contemporaneo
END:VEVENT
BEGIN:VTIMEZONE
TZID:Europe/Madrid
X-LIC-LOCATION:Europe/Madrid
BEGIN:DAYLIGHT
DTSTART;VALUE=DATE-TIME:20210328T030000
TZNAME:CEST
TZOFFSETFROM:+0100
TZOFFSETTO:+0200
END:DAYLIGHT
END:VTIMEZONE
END:VCALENDAR
