BEGIN:VCALENDAR
VERSION:2.0
PRODID:-//Plone.org//NONSGML plone.app.event//EN
X-WR-TIMEZONE:Europe/Madrid
BEGIN:VEVENT
SUMMARY:Neones de la crónica de sociedad
DTSTART;TZID=Europe/Madrid;VALUE=DATE-TIME:20210127T110000
DTEND;TZID=Europe/Madrid;VALUE=DATE-TIME:20210127T120000
DTSTAMP;VALUE=DATE-TIME:20260422T231539Z
UID:c90cca0df19b487c8869c8ffd15bb858@icas.sevilla.org
CREATED;VALUE=DATE-TIME:20210127T101728Z
LAST-MODIFIED;VALUE=DATE-TIME:20231006T073213Z
URL:https://icas.sevilla.org/agenda/cronicas-sociedad
END:VEVENT
BEGIN:VTIMEZONE
TZID:Europe/Madrid
X-LIC-LOCATION:Europe/Madrid
BEGIN:STANDARD
DTSTART;VALUE=DATE-TIME:20201025T020000
TZNAME:CET
TZOFFSETFROM:+0200
TZOFFSETTO:+0100
END:STANDARD
END:VTIMEZONE
END:VCALENDAR
