BEGIN:VCALENDAR
VERSION:2.0
PRODID:-//Plone.org//NONSGML plone.app.event//EN
X-WR-TIMEZONE:Europe/Madrid
BEGIN:VEVENT
SUMMARY:Cuarta muestra de los Laboratorios de experimentación artística 
 del programa Interreg Magallanes_ICC
DTSTART;TZID=Europe/Madrid;VALUE=DATE-TIME:20211111T170000
DTEND;TZID=Europe/Madrid;VALUE=DATE-TIME:20211113T213000
DTSTAMP;VALUE=DATE-TIME:20260420T135828Z
UID:aebcc183ebde400fa1f9b5218e53175d@icas.sevilla.org
CATEGORIES:Creación contemporánea
CREATED;VALUE=DATE-TIME:20211109T162756Z
LAST-MODIFIED;VALUE=DATE-TIME:20231006T075529Z
LOCATION:Real Fábrica de Artillería
URL:https://icas.sevilla.org/agenda/cuarta-muestra-de-los-laboratorios-de-
 experimentacion-artistica-del-programa-interreg-magallanes_icc
END:VEVENT
BEGIN:VTIMEZONE
TZID:Europe/Madrid
X-LIC-LOCATION:Europe/Madrid
BEGIN:STANDARD
DTSTART;VALUE=DATE-TIME:20211031T020000
TZNAME:CET
TZOFFSETFROM:+0200
TZOFFSETTO:+0100
END:STANDARD
END:VTIMEZONE
END:VCALENDAR
