BEGIN:VCALENDAR
VERSION:2.0
PRODID:-//Plone.org//NONSGML plone.app.event//EN
X-WR-TIMEZONE:Europe/Madrid
BEGIN:VEVENT
SUMMARY:Cuenta Astronomía: El Universo y sus Secretos
DTSTART;VALUE=DATE:20210513
DTEND;VALUE=DATE:20210514
DTSTAMP;VALUE=DATE-TIME:20260422T182000Z
UID:4870cea7625844a5a798045cd60ff7bd@icas.sevilla.org
CATEGORIES:Bibliotecas,libros y publicaciones
CREATED;VALUE=DATE-TIME:20210421T113016Z
LAST-MODIFIED;VALUE=DATE-TIME:20231006T073457Z
LOCATION:Biblioteca Torreblanca
URL:https://icas.sevilla.org/agenda/cuenta-astronomia-el-universo-y-sus-se
 cretos
END:VEVENT
END:VCALENDAR
