BEGIN:VCALENDAR
VERSION:2.0
PRODID:-//Plone.org//NONSGML plone.app.event//EN
X-WR-TIMEZONE:Europe/Madrid
BEGIN:VEVENT
SUMMARY:Cuentamitos
DTSTART;TZID=Europe/Madrid;VALUE=DATE-TIME:20211109T100500
DTEND;TZID=Europe/Madrid;VALUE=DATE-TIME:20211109T130000
DTSTAMP;VALUE=DATE-TIME:20260422T231355Z
UID:71978152e33644d48504673314e1e29c@icas.sevilla.org
CATEGORIES:Bibliotecas,Cuentacuentos,Infantil
CREATED;VALUE=DATE-TIME:20211025T202350Z
LAST-MODIFIED;VALUE=DATE-TIME:20231006T075511Z
LOCATION:Biblioteca Torreblanca
URL:https://icas.sevilla.org/agenda/cuentamitos
END:VEVENT
BEGIN:VTIMEZONE
TZID:Europe/Madrid
X-LIC-LOCATION:Europe/Madrid
BEGIN:STANDARD
DTSTART;VALUE=DATE-TIME:20211031T020000
TZNAME:CET
TZOFFSETFROM:+0200
TZOFFSETTO:+0100
END:STANDARD
END:VTIMEZONE
END:VCALENDAR
