BEGIN:VCALENDAR
VERSION:2.0
PRODID:-//Plone.org//NONSGML plone.app.event//EN
X-WR-TIMEZONE:Europe/Madrid
BEGIN:VEVENT
SUMMARY:Cuentos a la fresca
DTSTART;TZID=Europe/Madrid;VALUE=DATE-TIME:20210624T120000
DTEND;TZID=Europe/Madrid;VALUE=DATE-TIME:20210624T130000
DTSTAMP;VALUE=DATE-TIME:20260421T193314Z
UID:1cdf285f5d8a472ca0113870f46a3e25@icas.sevilla.org
CATEGORIES:Bibliotecas,Literatura,Infantil
CREATED;VALUE=DATE-TIME:20210421T142327Z
LAST-MODIFIED;VALUE=DATE-TIME:20231006T073505Z
LOCATION:Biblioteca Julia Uceda
URL:https://icas.sevilla.org/agenda/cuentos-a-la-fresca
END:VEVENT
BEGIN:VTIMEZONE
TZID:Europe/Madrid
X-LIC-LOCATION:Europe/Madrid
BEGIN:DAYLIGHT
DTSTART;VALUE=DATE-TIME:20210328T030000
TZNAME:CEST
TZOFFSETFROM:+0100
TZOFFSETTO:+0200
END:DAYLIGHT
END:VTIMEZONE
END:VCALENDAR
