BEGIN:VCALENDAR
VERSION:2.0
PRODID:-//Plone.org//NONSGML plone.app.event//EN
X-WR-TIMEZONE:Europe/Madrid
BEGIN:VEVENT
SUMMARY:Cuentos por teléfono. Charla-debate sobre la vida de Gianni Rodar
 i
DTSTART;TZID=Europe/Madrid;VALUE=DATE-TIME:20210629T100000
DTEND;TZID=Europe/Madrid;VALUE=DATE-TIME:20210629T110000
DTSTAMP;VALUE=DATE-TIME:20260423T101654Z
UID:36c68e3fc46d46d0ba16dc9a1ffc01af@icas.sevilla.org
CATEGORIES:Bibliotecas,Infantil,Libros y publicaciones
CREATED;VALUE=DATE-TIME:20210426T102104Z
LAST-MODIFIED;VALUE=DATE-TIME:20231006T073538Z
LOCATION:Biblioteca Cerro del Águila
URL:https://icas.sevilla.org/agenda/cuentos-por-telefono-charla-debate-sob
 re-la-vida-de-gianni-rodari
END:VEVENT
BEGIN:VTIMEZONE
TZID:Europe/Madrid
X-LIC-LOCATION:Europe/Madrid
BEGIN:DAYLIGHT
DTSTART;VALUE=DATE-TIME:20210328T030000
TZNAME:CEST
TZOFFSETFROM:+0100
TZOFFSETTO:+0200
END:DAYLIGHT
END:VTIMEZONE
END:VCALENDAR
