BEGIN:VCALENDAR
VERSION:2.0
PRODID:-//Plone.org//NONSGML plone.app.event//EN
X-WR-TIMEZONE:Europe/Madrid
BEGIN:VEVENT
SUMMARY:Cultura en parques (14 de mayo)
DTSTART;TZID=Europe/Madrid;VALUE=DATE-TIME:20230514T120000
DTEND;TZID=Europe/Madrid;VALUE=DATE-TIME:20230514T130000
DTSTAMP;VALUE=DATE-TIME:20260422T042841Z
UID:51b01172a1e04a4499508def47b3f47e@icas.sevilla.org
CATEGORIES:Títeres,Magia,Concierto
CREATED;VALUE=DATE-TIME:20230419T115120Z
LAST-MODIFIED;VALUE=DATE-TIME:20231006T080501Z
URL:https://icas.sevilla.org/agenda/cultura-en-parques-14-de-mayo-14052023
END:VEVENT
BEGIN:VTIMEZONE
TZID:Europe/Madrid
X-LIC-LOCATION:Europe/Madrid
BEGIN:DAYLIGHT
DTSTART;VALUE=DATE-TIME:20230326T030000
TZNAME:CEST
TZOFFSETFROM:+0100
TZOFFSETTO:+0200
END:DAYLIGHT
END:VTIMEZONE
END:VCALENDAR
