BEGIN:VCALENDAR
VERSION:2.0
PRODID:-//Plone.org//NONSGML plone.app.event//EN
X-WR-TIMEZONE:Europe/Madrid
BEGIN:VEVENT
SUMMARY:Sonidos en movimiento. Taller de rítmica Dalcroze para niños/as 
 de 4 a 10 años.
DTSTART;TZID=Europe/Madrid;VALUE=DATE-TIME:20210508T123000
DTEND;TZID=Europe/Madrid;VALUE=DATE-TIME:20210508T133000
DTSTAMP;VALUE=DATE-TIME:20260422T181047Z
UID:d9aa45589632403fa29073bdbf64a826@icas.sevilla.org
CATEGORIES:Música,Infantil
CREATED;VALUE=DATE-TIME:20200928T082007Z
LAST-MODIFIED;VALUE=DATE-TIME:20231006T072608Z
LOCATION:Sala Juan de Mairena
URL:https://icas.sevilla.org/agenda/dalcrze-may-21
END:VEVENT
BEGIN:VTIMEZONE
TZID:Europe/Madrid
X-LIC-LOCATION:Europe/Madrid
BEGIN:DAYLIGHT
DTSTART;VALUE=DATE-TIME:20210328T030000
TZNAME:CEST
TZOFFSETFROM:+0100
TZOFFSETTO:+0200
END:DAYLIGHT
END:VTIMEZONE
END:VCALENDAR
