BEGIN:VCALENDAR
VERSION:2.0
PRODID:-//Plone.org//NONSGML plone.app.event//EN
X-WR-TIMEZONE:Europe/Madrid
BEGIN:VEVENT
SUMMARY:De andar por casa
DTSTART;TZID=Europe/Madrid;VALUE=DATE-TIME:20210701T100000
DTEND;TZID=Europe/Madrid;VALUE=DATE-TIME:20210715T210000
DTSTAMP;VALUE=DATE-TIME:20260421T153222Z
UID:813dd1a5dd8a4c3cba4be75d7c22d7f4@icas.sevilla.org
CATEGORIES:Exposiciones
CREATED;VALUE=DATE-TIME:20210624T122633Z
DESCRIPTION:Facultad de Bellas Artes. Universidad de Sevilla\nColabora: In
 stituto de la Cultura y las Artes (ICAS). Ayuntamiento de Sevilla
LAST-MODIFIED;VALUE=DATE-TIME:20231006T074654Z
URL:https://icas.sevilla.org/agenda/de-andar-por-casa
END:VEVENT
BEGIN:VTIMEZONE
TZID:Europe/Madrid
X-LIC-LOCATION:Europe/Madrid
BEGIN:DAYLIGHT
DTSTART;VALUE=DATE-TIME:20210328T030000
TZNAME:CEST
TZOFFSETFROM:+0100
TZOFFSETTO:+0200
END:DAYLIGHT
END:VTIMEZONE
END:VCALENDAR
