BEGIN:VCALENDAR
VERSION:2.0
PRODID:-//Plone.org//NONSGML plone.app.event//EN
X-WR-TIMEZONE:Europe/Madrid
BEGIN:VEVENT
SUMMARY:De Boca a Oreja
DTSTART;VALUE=DATE:20210525
DTEND;VALUE=DATE:20210526
DTSTAMP;VALUE=DATE-TIME:20260420T224325Z
UID:954a1336adf14e7cb56e6f09922ddfea@icas.sevilla.org
CATEGORIES:Bibliotecas,Libros y publicaciones
CREATED;VALUE=DATE-TIME:20210421T113721Z
LAST-MODIFIED;VALUE=DATE-TIME:20231006T073459Z
LOCATION:Biblioteca Torreblanca
URL:https://icas.sevilla.org/agenda/de-boca-a-oreja-1
END:VEVENT
END:VCALENDAR
