BEGIN:VCALENDAR
VERSION:2.0
PRODID:-//Plone.org//NONSGML plone.app.event//EN
X-WR-TIMEZONE:Europe/Madrid
BEGIN:VEVENT
SUMMARY:De tauromaquia\, letras y otras artes: yankees por ‘la piel de t
 oro’
DTSTART;TZID=Europe/Madrid;VALUE=DATE-TIME:20210601T200000
DTEND;TZID=Europe/Madrid;VALUE=DATE-TIME:20210601T210000
DTSTAMP;VALUE=DATE-TIME:20260422T083316Z
UID:73a380fef976457d9e0336340ab0e96b@icas.sevilla.org
CATEGORIES:Literatura
CREATED;VALUE=DATE-TIME:20210427T140353Z
LAST-MODIFIED;VALUE=DATE-TIME:20231006T073557Z
URL:https://icas.sevilla.org/agenda/de-tauromaquia-letras-y-otras-artes-ya
 nkees-por-2018la-piel-de-toro2019
END:VEVENT
BEGIN:VTIMEZONE
TZID:Europe/Madrid
X-LIC-LOCATION:Europe/Madrid
BEGIN:DAYLIGHT
DTSTART;VALUE=DATE-TIME:20210328T030000
TZNAME:CEST
TZOFFSETFROM:+0100
TZOFFSETTO:+0200
END:DAYLIGHT
END:VTIMEZONE
END:VCALENDAR
