BEGIN:VCALENDAR
VERSION:2.0
PRODID:-//Plone.org//NONSGML plone.app.event//EN
X-WR-TIMEZONE:Europe/Madrid
BEGIN:VEVENT
SUMMARY:Del dicho al verso
DTSTART;TZID=Europe/Madrid;VALUE=DATE-TIME:20211123T103000
DTEND;TZID=Europe/Madrid;VALUE=DATE-TIME:20211123T130000
DTSTAMP;VALUE=DATE-TIME:20260423T185336Z
UID:b05a06fc909448dbb21ff63cabe25d41@icas.sevilla.org
CATEGORIES:Bibliotecas,Cuentacuentos,Infantil
CREATED;VALUE=DATE-TIME:20211019T142406Z
LAST-MODIFIED;VALUE=DATE-TIME:20231006T075318Z
LOCATION:Biblioteca Blas Infante
URL:https://icas.sevilla.org/agenda/del-dicho-al-verso
END:VEVENT
BEGIN:VTIMEZONE
TZID:Europe/Madrid
X-LIC-LOCATION:Europe/Madrid
BEGIN:STANDARD
DTSTART;VALUE=DATE-TIME:20211031T020000
TZNAME:CET
TZOFFSETFROM:+0200
TZOFFSETTO:+0100
END:STANDARD
END:VTIMEZONE
END:VCALENDAR
