BEGIN:VCALENDAR
VERSION:2.0
PRODID:-//Plone.org//NONSGML plone.app.event//EN
X-WR-TIMEZONE:Europe/Madrid
BEGIN:VEVENT
SUMMARY:Del espacio exterior al espacio interior. Maneras de narrar correc
 tamente. Biblioteca Municipal Julia Uceda
DTSTART;TZID=Europe/Madrid;VALUE=DATE-TIME:20201125T110000
DTEND;TZID=Europe/Madrid;VALUE=DATE-TIME:20201125T123000
DTSTAMP;VALUE=DATE-TIME:20260425T204159Z
UID:f734e9644e7c4ed38713678a6f59b694@icas.sevilla.org
CATEGORIES:Literatura
CREATED;VALUE=DATE-TIME:20201117T160505Z
LAST-MODIFIED;VALUE=DATE-TIME:20231006T072903Z
URL:https://icas.sevilla.org/agenda/del-espacio-exterior-al-espacio-interi
 or-maneras-de-narrar-correctamente-biblioteca-municipal-julia-uceda
END:VEVENT
BEGIN:VTIMEZONE
TZID:Europe/Madrid
X-LIC-LOCATION:Europe/Madrid
BEGIN:STANDARD
DTSTART;VALUE=DATE-TIME:20201025T020000
TZNAME:CET
TZOFFSETFROM:+0200
TZOFFSETTO:+0100
END:STANDARD
END:VTIMEZONE
END:VCALENDAR
