BEGIN:VCALENDAR
VERSION:2.0
PRODID:-//Plone.org//NONSGML plone.app.event//EN
X-WR-TIMEZONE:Europe/Madrid
BEGIN:VEVENT
SUMMARY:Descubre tu Biblioteca.com en el Aula
DTSTART;VALUE=DATE:20210923
DTEND;VALUE=DATE:20210924
DTSTAMP;VALUE=DATE-TIME:20260422T072441Z
UID:af498c4c76074bf592cfb9537ad14d1e@icas.sevilla.org
CATEGORIES:Bibliotecas,Infantil
CREATED;VALUE=DATE-TIME:20210825T071816Z
LAST-MODIFIED;VALUE=DATE-TIME:20231006T075008Z
LOCATION:Biblioteca Torreblanca
URL:https://icas.sevilla.org/agenda/descubre-tu-biblioteca-com-en-el-aula
END:VEVENT
END:VCALENDAR
