BEGIN:VCALENDAR
VERSION:2.0
PRODID:-//Plone.org//NONSGML plone.app.event//EN
X-WR-TIMEZONE:Europe/Madrid
BEGIN:VEVENT
SUMMARY:Día del cómic
DTSTART;TZID=Europe/Madrid;VALUE=DATE-TIME:20230318T120000
DTEND;TZID=Europe/Madrid;VALUE=DATE-TIME:20230318T140000
DTSTAMP;VALUE=DATE-TIME:20260425T151141Z
UID:ac10a16ef4544cc1af75894091f874a7@icas.sevilla.org
CREATED;VALUE=DATE-TIME:20230314T111657Z
LAST-MODIFIED;VALUE=DATE-TIME:20231006T080442Z
LOCATION:Sala de las Pinturas
URL:https://icas.sevilla.org/agenda/dia-del-comic
END:VEVENT
BEGIN:VTIMEZONE
TZID:Europe/Madrid
X-LIC-LOCATION:Europe/Madrid
BEGIN:STANDARD
DTSTART;VALUE=DATE-TIME:20221030T020000
TZNAME:CET
TZOFFSETFROM:+0200
TZOFFSETTO:+0100
END:STANDARD
END:VTIMEZONE
END:VCALENDAR
