BEGIN:VCALENDAR
VERSION:2.0
PRODID:-//Plone.org//NONSGML plone.app.event//EN
X-WR-TIMEZONE:Europe/Madrid
BEGIN:VEVENT
SUMMARY:Diana Larios y Francisco Soriano: 'Gotas románticas. Al descubier
 to'
DTSTART;TZID=Europe/Madrid;VALUE=DATE-TIME:20201101T193000
DTEND;TZID=Europe/Madrid;VALUE=DATE-TIME:20201101T210000
DTSTAMP;VALUE=DATE-TIME:20260420T125827Z
UID:04b1b24c2df84525bdf6c75b5fa7d9d2@icas.sevilla.org
CATEGORIES:Música
CREATED;VALUE=DATE-TIME:20201013T075428Z
LAST-MODIFIED;VALUE=DATE-TIME:20231006T072713Z
LOCATION:Sala Silvio
URL:https://icas.sevilla.org/agenda/diana-larios-y-francisco-soriano-gotas
 -romanticas-al-descubierto
END:VEVENT
BEGIN:VTIMEZONE
TZID:Europe/Madrid
X-LIC-LOCATION:Europe/Madrid
BEGIN:STANDARD
DTSTART;VALUE=DATE-TIME:20201025T020000
TZNAME:CET
TZOFFSETFROM:+0200
TZOFFSETTO:+0100
END:STANDARD
END:VTIMEZONE
END:VCALENDAR
