BEGIN:VCALENDAR
VERSION:2.0
PRODID:-//Plone.org//NONSGML plone.app.event//EN
X-WR-TIMEZONE:Europe/Madrid
BEGIN:VEVENT
SUMMARY:Disney Stars
DTSTART;TZID=Europe/Madrid;VALUE=DATE-TIME:20231227T203000
DTEND;TZID=Europe/Madrid;VALUE=DATE-TIME:20231227T213000
DTSTAMP;VALUE=DATE-TIME:20260423T102207Z
UID:fdda4e74357149ed8e19b498960b1397@icas.sevilla.org
CATEGORIES:Música
CREATED;VALUE=DATE-TIME:20231222T115140Z
LAST-MODIFIED;VALUE=DATE-TIME:20231222T133515Z
LOCATION:Palacio de Congresos y Exposiciones FIBES
URL:https://icas.sevilla.org/agenda/disney-stars
END:VEVENT
BEGIN:VTIMEZONE
TZID:Europe/Madrid
X-LIC-LOCATION:Europe/Madrid
BEGIN:STANDARD
DTSTART;VALUE=DATE-TIME:20231029T020000
TZNAME:CET
TZOFFSETFROM:+0200
TZOFFSETTO:+0100
END:STANDARD
END:VTIMEZONE
END:VCALENDAR
