BEGIN:VCALENDAR
VERSION:2.0
PRODID:-//Plone.org//NONSGML plone.app.event//EN
X-WR-TIMEZONE:Europe/Madrid
BEGIN:VEVENT
SUMMARY:Eco\, de la Cía. Ymedioteatro (Jaén)
DTSTART;TZID=Europe/Madrid;VALUE=DATE-TIME:20210529T120000
DTEND;TZID=Europe/Madrid;VALUE=DATE-TIME:20210529T131000
DTSTAMP;VALUE=DATE-TIME:20260421T193801Z
UID:428ea1f91cd34400986042b0bfc9bedd@icas.sevilla.org
CATEGORIES:Artes escénicas
CREATED;VALUE=DATE-TIME:20210429T075408Z
LAST-MODIFIED;VALUE=DATE-TIME:20231006T073623Z
LOCATION:SALA CERO
URL:https://icas.sevilla.org/agenda/eco-de-la-cia-ymedioteatro-jaen
END:VEVENT
BEGIN:VTIMEZONE
TZID:Europe/Madrid
X-LIC-LOCATION:Europe/Madrid
BEGIN:DAYLIGHT
DTSTART;VALUE=DATE-TIME:20210328T030000
TZNAME:CEST
TZOFFSETFROM:+0100
TZOFFSETTO:+0200
END:DAYLIGHT
END:VTIMEZONE
END:VCALENDAR
