BEGIN:VCALENDAR
VERSION:2.0
PRODID:-//Plone.org//NONSGML plone.app.event//EN
X-WR-TIMEZONE:Europe/Madrid
BEGIN:VEVENT
SUMMARY:'El Amo'. Cía. Panpán Teatro. Sevilla
DTSTART;TZID=Europe/Madrid;VALUE=DATE-TIME:20240131T093000
DTEND;TZID=Europe/Madrid;VALUE=DATE-TIME:20240131T120000
DTSTAMP;VALUE=DATE-TIME:20260423T135458Z
UID:1e73b88ae7954115bbb3843749c40746@icas.sevilla.org
CATEGORIES:TEATRO,CLOWN
CREATED;VALUE=DATE-TIME:20231030T135629Z
DESCRIPTION:VII Ciclo #TEATReVES
LAST-MODIFIED;VALUE=DATE-TIME:20231103T113444Z
URL:https://icas.sevilla.org/agenda/el-amo
END:VEVENT
BEGIN:VTIMEZONE
TZID:Europe/Madrid
X-LIC-LOCATION:Europe/Madrid
BEGIN:STANDARD
DTSTART;VALUE=DATE-TIME:20231029T020000
TZNAME:CET
TZOFFSETFROM:+0200
TZOFFSETTO:+0100
END:STANDARD
END:VTIMEZONE
END:VCALENDAR
