BEGIN:VCALENDAR
VERSION:2.0
PRODID:-//Plone.org//NONSGML plone.app.event//EN
X-WR-TIMEZONE:Europe/Madrid
BEGIN:VEVENT
SUMMARY:'El buscón'. Cía. Factoría Teatro. Madrid
DTSTART;TZID=Europe/Madrid;VALUE=DATE-TIME:20240115T093000
DTEND;TZID=Europe/Madrid;VALUE=DATE-TIME:20240117T120000
DTSTAMP;VALUE=DATE-TIME:20260425T232649Z
UID:5d02894631fa46939e7d2e06d8de8c0a@icas.sevilla.org
CATEGORIES:teatro familiar,teatro
CREATED;VALUE=DATE-TIME:20231030T135321Z
DESCRIPTION:VII Ciclo #TEATReVES
LAST-MODIFIED;VALUE=DATE-TIME:20231103T113228Z
URL:https://icas.sevilla.org/agenda/el-buscon
END:VEVENT
BEGIN:VTIMEZONE
TZID:Europe/Madrid
X-LIC-LOCATION:Europe/Madrid
BEGIN:STANDARD
DTSTART;VALUE=DATE-TIME:20231029T020000
TZNAME:CET
TZOFFSETFROM:+0200
TZOFFSETTO:+0100
END:STANDARD
END:VTIMEZONE
END:VCALENDAR
