BEGIN:VCALENDAR
VERSION:2.0
PRODID:-//Plone.org//NONSGML plone.app.event//EN
X-WR-TIMEZONE:Europe/Madrid
BEGIN:VEVENT
SUMMARY:El caminante mágico
DTSTART;TZID=Europe/Madrid;VALUE=DATE-TIME:20220427T103000
DTEND;TZID=Europe/Madrid;VALUE=DATE-TIME:20220427T133000
DTSTAMP;VALUE=DATE-TIME:20260422T151148Z
UID:64bed751eb2745e497d5d2e33a4e619f@icas.sevilla.org
CATEGORIES:Cuentacuentos,Infantil
CREATED;VALUE=DATE-TIME:20220407T150000Z
LAST-MODIFIED;VALUE=DATE-TIME:20231006T075737Z
LOCATION:Biblioteca Blas Infante
URL:https://icas.sevilla.org/agenda/el-caminante-magico
END:VEVENT
BEGIN:VTIMEZONE
TZID:Europe/Madrid
X-LIC-LOCATION:Europe/Madrid
BEGIN:DAYLIGHT
DTSTART;VALUE=DATE-TIME:20220327T030000
TZNAME:CEST
TZOFFSETFROM:+0100
TZOFFSETTO:+0200
END:DAYLIGHT
END:VTIMEZONE
END:VCALENDAR
